BEGIN:VCALENDAR
VERSION:2.0
PRODID:-//Scottsdale Institute - ECPv6.8.0//NONSGML v1.0//EN
CALSCALE:GREGORIAN
METHOD:PUBLISH
X-WR-CALNAME:Scottsdale Institute
X-ORIGINAL-URL:https://scottsdaleinstitute.org
X-WR-CALDESC:Events for Scottsdale Institute
REFRESH-INTERVAL;VALUE=DURATION:PT1H
X-Robots-Tag:noindex
X-PUBLISHED-TTL:PT1H
BEGIN:VTIMEZONE
TZID:America/Chicago
BEGIN:DAYLIGHT
TZOFFSETFROM:-0600
TZOFFSETTO:-0500
TZNAME:CDT
DTSTART:20260308T080000
END:DAYLIGHT
BEGIN:STANDARD
TZOFFSETFROM:-0500
TZOFFSETTO:-0600
TZNAME:CST
DTSTART:20261101T070000
END:STANDARD
END:VTIMEZONE
BEGIN:VEVENT
DTSTART;TZID=America/Chicago:20260421T130000
DTEND;TZID=America/Chicago:20260421T140000
DTSTAMP:20260420T073312
CREATED:20260317T221924Z
LAST-MODIFIED:20260403T133213Z
UID:75587-1776776400-1776780000@scottsdaleinstitute.org
SUMMARY:WEBINAR | Separating Signal from Noise: Building a Real AI Strategy in Healthcare
DESCRIPTION:Artificial intelligence is rapidly moving from experimentation to enterprise priority in healthcare. This session brings a CEO and industry innovator together to unpack what an effective A [...]
URL:https://scottsdaleinstitute.org/event/webinar-separating-signal-from-noise-building-a-real-ai-strategy-in-healthcare/
END:VEVENT
BEGIN:VEVENT
DTSTART;TZID=America/Chicago:20260422T130000
DTEND;TZID=America/Chicago:20260422T140000
DTSTAMP:20260420T073312
CREATED:20251116T221315Z
LAST-MODIFIED:20260312T140344Z
UID:73411-1776862800-1776866400@scottsdaleinstitute.org
SUMMARY:WEBINAR | Ascension's Clinical Innovation Institute
DESCRIPTION:Frederick Masoudi\, MD\, MSPH\, Vice President and Chief Academic Officer; Mitesh Patel\, MD\, MBA\, Vice President and Chief Clinical Transformation Officer; and Jon Taves\, MBA\, Associa [...]
URL:https://scottsdaleinstitute.org/event/webinar-ascensions-clinical-innovation-institute/
END:VEVENT
BEGIN:VEVENT
DTSTART;TZID=America/Chicago:20260423T130000
DTEND;TZID=America/Chicago:20260423T140000
DTSTAMP:20260420T073312
CREATED:20260401T144507Z
LAST-MODIFIED:20260415T182618Z
UID:75822-1776949200-1776952800@scottsdaleinstitute.org
SUMMARY:WEBINAR | Defining the IT Value Equation
DESCRIPTION:Join Adam Baker\, Partner at Chartis\, along with Shakeeb Akhter\, SVP & CDIO at Children’s Hospital of Philadelphia; and Jim Feen\, SVP & CDIO at Southcoast Health. Health systems are  [...]
URL:https://scottsdaleinstitute.org/event/webinar-defining-the-it-value-equation/
END:VEVENT
BEGIN:VEVENT
DTSTART;VALUE=DATE:20260428
DTEND;VALUE=DATE:20260502
DTSTAMP:20260420T073312
CREATED:20250714T164222Z
LAST-MODIFIED:20260417T202223Z
UID:71431-1777334400-1777679999@scottsdaleinstitute.org
SUMMARY:2026 Scottsdale Institute Annual Conference
DESCRIPTION:Crossing the AI Chasm: Level Up!Annual Conference | April 28 – May 1\, 2026\n\n* Please note that the AI Symposium requires a separate registration\, and both events are invite only.\n\n [...]
URL:https://scottsdaleinstitute.org/event/2026-annual-conference/
ATTACH;FMTTYPE=image/jpeg:https://scottsdaleinstitute.org/wp-content/uploads/2025/07/crop.jpg
END:VEVENT
BEGIN:VEVENT
DTSTART;TZID=America/Chicago:20260428T130000
DTEND;TZID=America/Chicago:20260428T171500
DTSTAMP:20260420T073312
CREATED:20250714T163804Z
LAST-MODIFIED:20260417T193528Z
UID:71428-1777381200-1777396500@scottsdaleinstitute.org
SUMMARY:2026 Scottsdale Institute AI Symposium
DESCRIPTION:Crossing the AI Chasm: What’s Next?AI Symposium | April 28\, 2026\n\n* Please note that the Annual Conference requires a separate registration\, and both events are invite only.\n\n\nBy  [...]
URL:https://scottsdaleinstitute.org/event/2026-scottsdale-institute-ai-symposium/
ATTACH;FMTTYPE=image/jpeg:https://scottsdaleinstitute.org/wp-content/uploads/2025/07/crop.jpg
END:VEVENT
BEGIN:VEVENT
DTSTART;TZID=America/Chicago:20260506T130000
DTEND;TZID=America/Chicago:20260506T140000
DTSTAMP:20260420T073312
CREATED:20260325T205813Z
LAST-MODIFIED:20260406T194105Z
UID:75747-1778072400-1778076000@scottsdaleinstitute.org
SUMMARY:WEBINAR | Seeking Clinical and Operational Excellence Through EHR Modernization at SSM Health
DESCRIPTION:Saad Chaudhry\, Chief Digital and Information Officer\, SSM Health; Amy Rettler\, SVP of Client Partnerships; Steven Redd\, Director of Strategic Services; and Michelle Strawn\, SVP of Str [...]
URL:https://scottsdaleinstitute.org/event/webinar-seeking-clinical-and-operational-excellence-through-ehr-modernization-at-ssm-health/
END:VEVENT
BEGIN:VEVENT
DTSTART;TZID=America/Chicago:20260511T140000
DTEND;TZID=America/Chicago:20260511T150000
DTSTAMP:20260420T073312
CREATED:20260203T174558Z
LAST-MODIFIED:20260417T204915Z
UID:74847-1778508000-1778511600@scottsdaleinstitute.org
SUMMARY:Roundtable Series |  Operationalizing AI + Technology to Transform Workforce Performance: From Reactive Staffing to Predictive\, Patient-Focused Operations
DESCRIPTION:This is 2 of 4 Roundtable Series\nAs healthcare organizations continue to face workforce shortages\, rising labor costs\, and increasing demand variability\, traditional workforce manageme [...]
URL:https://scottsdaleinstitute.org/event/roundtable-series-operationalizing-ai-technology-to-transform-workforce-performance-from-reactive-staffing-to-predictive-patient-focused-operations/
END:VEVENT
BEGIN:VEVENT
DTSTART;TZID=America/Chicago:20260514T130000
DTEND;TZID=America/Chicago:20260514T140000
DTSTAMP:20260420T073312
CREATED:20260406T184905Z
LAST-MODIFIED:20260406T200955Z
UID:75899-1778763600-1778767200@scottsdaleinstitute.org
SUMMARY:WEBINAR | Healing from Within: Strategies to Retain\, Recruit\, and Support Nurses
DESCRIPTION:An organization’s approach to staff well-being is a vital reflection of its commitment to the community as a whole. Morris Hospital & Healthcare Centers\, a key provider 55 miles southwe [...]
URL:https://scottsdaleinstitute.org/event/webinar-healing-from-within-strategies-to-retain-recruit-and-support-nurses/
END:VEVENT
BEGIN:VEVENT
DTSTART;TZID=America/Chicago:20260515T130000
DTEND;TZID=America/Chicago:20260515T140000
DTSTAMP:20260420T073312
CREATED:20260128T144849Z
LAST-MODIFIED:20260312T141322Z
UID:74779-1778850000-1778853600@scottsdaleinstitute.org
SUMMARY:WEBINAR | Spatial Computing: The Future of Clinical Work
DESCRIPTION:A new computing platform is emerging in healthcare\, distinct from AI. In this session\, Dr. Tommy Korn\, Chief Spatial Computing Officer and Ophthalmologist at Sharp HealthCare explores h [...]
URL:https://scottsdaleinstitute.org/event/webinar-spatial-computing-the-future-of-clinical-work/
END:VEVENT
BEGIN:VEVENT
DTSTART;TZID=America/Chicago:20260528T130000
DTEND;TZID=America/Chicago:20260528T140000
DTSTAMP:20260420T073312
CREATED:20260413T143134Z
LAST-MODIFIED:20260413T143134Z
UID:75991-1779973200-1779976800@scottsdaleinstitute.org
SUMMARY:WEBINAR | From 252 Days to 4.5: How AllianceChicago Automated 99% of Its Health Data Mapping with AI
DESCRIPTION:Andrew Hamilton\, RN\, BSN\, MS\, Informatics Officer & Deputy Director\, AllianceChicago; Guy Tsafnat\, PhD\, FAIDH\, Founder & Chief Scientific Officer; and Davera Gabriel\, RN\, FHL7\,  [...]
URL:https://scottsdaleinstitute.org/event/webinar-from-252-days-to-4-5-how-alliancechicago-automated-99-of-its-health-data-mapping-with-ai/
END:VEVENT
BEGIN:VEVENT
DTSTART;TZID=America/Chicago:20260602T130000
DTEND;TZID=America/Chicago:20260602T140000
DTSTAMP:20260420T073312
CREATED:20260226T145752Z
LAST-MODIFIED:20260326T184130Z
UID:75310-1780405200-1780408800@scottsdaleinstitute.org
SUMMARY:WEBINAR | Optimization and Cultural Change Drive Revenue Cycle Success
DESCRIPTION:Erin Hodson MSN\, Vice President\, Revenue Cycle; Olin McClain\, AVP Revenue Cycle Billing\, Inova; Doug Story\, Managing Director; and Candace Rogerson\, Director\, Impact Advisors. Inov [...]
URL:https://scottsdaleinstitute.org/event/webinar-optimization-and-cultural-change-drive-revenue-cycle-success/
END:VEVENT
BEGIN:VEVENT
DTSTART;TZID=America/Chicago:20260604T143000
DTEND;TZID=America/Chicago:20260604T153000
DTSTAMP:20260420T073312
CREATED:20260417T021750Z
LAST-MODIFIED:20260417T021949Z
UID:76347-1780583400-1780587000@scottsdaleinstitute.org
SUMMARY:Roundtable | Role of the CIO / IT in the age of AI
DESCRIPTION:As artificial intelligence accelerates from experimentation to enterprise-wide transformation\, the role of the CIO is being fundamentally redefined. Today’s technology leaders are incre [...]
URL:https://scottsdaleinstitute.org/event/roundtable-role-of-the-cio-it-in-the-age-of-ai/
END:VEVENT
BEGIN:VEVENT
DTSTART;TZID=America/Chicago:20260916T150000
DTEND;TZID=America/Chicago:20260916T163000
DTSTAMP:20260420T073312
CREATED:20260203T180921Z
LAST-MODIFIED:20260331T203536Z
UID:74855-1789570800-1789576200@scottsdaleinstitute.org
SUMMARY:Roundtable Series | Operationalizing Tech + AI for Increased Clinical Capacity
DESCRIPTION:This is 3 of 4 Roundtable Series\nWith the One Big Beautiful Bill Act\, healthcare leaders are under even more pressure to improve access\, efficiency\, outcomes\, and margins -  whil [...]
URL:https://scottsdaleinstitute.org/event/roundtable-series-operationalizing-tech-ai-for-increased-clinical-capacity/
END:VEVENT
BEGIN:VEVENT
DTSTART;VALUE=DATE:20261103
DTEND;VALUE=DATE:20261105
DTSTAMP:20260420T073312
CREATED:20260121T205142Z
LAST-MODIFIED:20260209T200211Z
UID:74568-1793664000-1793836799@scottsdaleinstitute.org
SUMMARY:SUMMIT | CIO
DESCRIPTION:Save the date for the Scottsdale Institute’s CIO Summit which includes crossover programming with the CISO Summit on Wednesday\, November 5th in Tampa\, FL. Watch your email for registra [...]
URL:https://scottsdaleinstitute.org/event/summit-cio/
END:VEVENT
BEGIN:VEVENT
DTSTART;VALUE=DATE:20261104
DTEND;VALUE=DATE:20261106
DTSTAMP:20260420T073312
CREATED:20260121T205417Z
LAST-MODIFIED:20260206T204633Z
UID:74571-1793750400-1793923199@scottsdaleinstitute.org
SUMMARY:SUMMIT | CISO
DESCRIPTION:Save the date for the Scottsdale Institute’s CISO Summit which includes crossover programming with the CIO Summit on Wednesday\, November 5th in Tampa\, FL. Watch your email for registra [...]
URL:https://scottsdaleinstitute.org/event/summit-ciso/
END:VEVENT
BEGIN:VEVENT
DTSTART;TZID=America/Chicago:20261118T150000
DTEND;TZID=America/Chicago:20261118T163000
DTSTAMP:20260420T073312
CREATED:20260203T181620Z
LAST-MODIFIED:20260206T223857Z
UID:74858-1795014000-1795019400@scottsdaleinstitute.org
SUMMARY:Roundtable Series | Operationalizing Tech + AI for Supply Chain Workflow Resilience & Efficiency
DESCRIPTION:This is 4 of 4 Roundtable Series\nWith the One Big Beautiful Bill Act\, healthcare leaders are under even more pressure to improve access\, efficiency\, outcomes\, and margins -  whil [...]
URL:https://scottsdaleinstitute.org/event/roundtable-series-operationalizing-tech-ai-for-supply-chain-workflow-resilience-efficiency/
END:VEVENT
END:VCALENDAR